BEGIN:VCALENDAR
VERSION:2.0
PRODID:-//Integral Benefits Group - ECPv6.15.20//NONSGML v1.0//EN
CALSCALE:GREGORIAN
METHOD:PUBLISH
X-ORIGINAL-URL:https://integralbenefits.com
X-WR-CALDESC:Events for Integral Benefits Group
REFRESH-INTERVAL;VALUE=DURATION:PT1H
X-Robots-Tag:noindex
X-PUBLISHED-TTL:PT1H
BEGIN:VTIMEZONE
TZID:America/New_York
BEGIN:DAYLIGHT
TZOFFSETFROM:-0500
TZOFFSETTO:-0400
TZNAME:EDT
DTSTART:20260308T070000
END:DAYLIGHT
BEGIN:STANDARD
TZOFFSETFROM:-0400
TZOFFSETTO:-0500
TZNAME:EST
DTSTART:20261101T060000
END:STANDARD
BEGIN:DAYLIGHT
TZOFFSETFROM:-0500
TZOFFSETTO:-0400
TZNAME:EDT
DTSTART:20270314T070000
END:DAYLIGHT
BEGIN:STANDARD
TZOFFSETFROM:-0400
TZOFFSETTO:-0500
TZNAME:EST
DTSTART:20271107T060000
END:STANDARD
BEGIN:DAYLIGHT
TZOFFSETFROM:-0500
TZOFFSETTO:-0400
TZNAME:EDT
DTSTART:20280312T070000
END:DAYLIGHT
BEGIN:STANDARD
TZOFFSETFROM:-0400
TZOFFSETTO:-0500
TZNAME:EST
DTSTART:20281105T060000
END:STANDARD
END:VTIMEZONE
BEGIN:VEVENT
DTSTART;TZID=America/New_York:20270107T110000
DTEND;TZID=America/New_York:20270107T130000
DTSTAMP:20260425T114427
CREATED:20230507T144518Z
LAST-MODIFIED:20230507T144657Z
UID:10000407-1799319600-1799326800@integralbenefits.com
SUMMARY:Downtown Day Services - Homeless Outreach
DESCRIPTION:Every Thursday you can find us assisting the Dc’s homeless population with obtaining health insurance and services desperately needed.
URL:https://integralbenefits.com/event/downtown-day-services-homeless-outreach/2027-01-07/
LOCATION:Downtown Day Services\, 1313 New York Ave NW\, Washington\, DC\, 20005\, United States
ORGANIZER;CN="Chris Farmer":MAILTO:cfarmer@integralbenefits.com
END:VEVENT
BEGIN:VEVENT
DTSTART;TZID=America/New_York:20270114T110000
DTEND;TZID=America/New_York:20270114T130000
DTSTAMP:20260425T114427
CREATED:20230507T144518Z
LAST-MODIFIED:20230507T144657Z
UID:10000408-1799924400-1799931600@integralbenefits.com
SUMMARY:Downtown Day Services - Homeless Outreach
DESCRIPTION:Every Thursday you can find us assisting the Dc’s homeless population with obtaining health insurance and services desperately needed.
URL:https://integralbenefits.com/event/downtown-day-services-homeless-outreach/2027-01-14/
LOCATION:Downtown Day Services\, 1313 New York Ave NW\, Washington\, DC\, 20005\, United States
ORGANIZER;CN="Chris Farmer":MAILTO:cfarmer@integralbenefits.com
END:VEVENT
BEGIN:VEVENT
DTSTART;TZID=America/New_York:20270121T110000
DTEND;TZID=America/New_York:20270121T130000
DTSTAMP:20260425T114427
CREATED:20230507T144518Z
LAST-MODIFIED:20230507T144657Z
UID:10000409-1800529200-1800536400@integralbenefits.com
SUMMARY:Downtown Day Services - Homeless Outreach
DESCRIPTION:Every Thursday you can find us assisting the Dc’s homeless population with obtaining health insurance and services desperately needed.
URL:https://integralbenefits.com/event/downtown-day-services-homeless-outreach/2027-01-21/
LOCATION:Downtown Day Services\, 1313 New York Ave NW\, Washington\, DC\, 20005\, United States
ORGANIZER;CN="Chris Farmer":MAILTO:cfarmer@integralbenefits.com
END:VEVENT
BEGIN:VEVENT
DTSTART;TZID=America/New_York:20270128T110000
DTEND;TZID=America/New_York:20270128T130000
DTSTAMP:20260425T114427
CREATED:20230507T144518Z
LAST-MODIFIED:20230507T144657Z
UID:10000410-1801134000-1801141200@integralbenefits.com
SUMMARY:Downtown Day Services - Homeless Outreach
DESCRIPTION:Every Thursday you can find us assisting the Dc’s homeless population with obtaining health insurance and services desperately needed.
URL:https://integralbenefits.com/event/downtown-day-services-homeless-outreach/2027-01-28/
LOCATION:Downtown Day Services\, 1313 New York Ave NW\, Washington\, DC\, 20005\, United States
ORGANIZER;CN="Chris Farmer":MAILTO:cfarmer@integralbenefits.com
END:VEVENT
BEGIN:VEVENT
DTSTART;TZID=America/New_York:20270204T110000
DTEND;TZID=America/New_York:20270204T130000
DTSTAMP:20260425T114427
CREATED:20230507T144518Z
LAST-MODIFIED:20230507T144657Z
UID:10000411-1801738800-1801746000@integralbenefits.com
SUMMARY:Downtown Day Services - Homeless Outreach
DESCRIPTION:Every Thursday you can find us assisting the Dc’s homeless population with obtaining health insurance and services desperately needed.
URL:https://integralbenefits.com/event/downtown-day-services-homeless-outreach/2027-02-04/
LOCATION:Downtown Day Services\, 1313 New York Ave NW\, Washington\, DC\, 20005\, United States
ORGANIZER;CN="Chris Farmer":MAILTO:cfarmer@integralbenefits.com
END:VEVENT
BEGIN:VEVENT
DTSTART;TZID=America/New_York:20270211T110000
DTEND;TZID=America/New_York:20270211T130000
DTSTAMP:20260425T114427
CREATED:20230507T144518Z
LAST-MODIFIED:20230507T144657Z
UID:10000412-1802343600-1802350800@integralbenefits.com
SUMMARY:Downtown Day Services - Homeless Outreach
DESCRIPTION:Every Thursday you can find us assisting the Dc’s homeless population with obtaining health insurance and services desperately needed.
URL:https://integralbenefits.com/event/downtown-day-services-homeless-outreach/2027-02-11/
LOCATION:Downtown Day Services\, 1313 New York Ave NW\, Washington\, DC\, 20005\, United States
ORGANIZER;CN="Chris Farmer":MAILTO:cfarmer@integralbenefits.com
END:VEVENT
BEGIN:VEVENT
DTSTART;TZID=America/New_York:20270218T110000
DTEND;TZID=America/New_York:20270218T130000
DTSTAMP:20260425T114427
CREATED:20230507T144518Z
LAST-MODIFIED:20230507T144657Z
UID:10000413-1802948400-1802955600@integralbenefits.com
SUMMARY:Downtown Day Services - Homeless Outreach
DESCRIPTION:Every Thursday you can find us assisting the Dc’s homeless population with obtaining health insurance and services desperately needed.
URL:https://integralbenefits.com/event/downtown-day-services-homeless-outreach/2027-02-18/
LOCATION:Downtown Day Services\, 1313 New York Ave NW\, Washington\, DC\, 20005\, United States
ORGANIZER;CN="Chris Farmer":MAILTO:cfarmer@integralbenefits.com
END:VEVENT
BEGIN:VEVENT
DTSTART;TZID=America/New_York:20270225T110000
DTEND;TZID=America/New_York:20270225T130000
DTSTAMP:20260425T114427
CREATED:20230507T144518Z
LAST-MODIFIED:20230507T144657Z
UID:10000414-1803553200-1803560400@integralbenefits.com
SUMMARY:Downtown Day Services - Homeless Outreach
DESCRIPTION:Every Thursday you can find us assisting the Dc’s homeless population with obtaining health insurance and services desperately needed.
URL:https://integralbenefits.com/event/downtown-day-services-homeless-outreach/2027-02-25/
LOCATION:Downtown Day Services\, 1313 New York Ave NW\, Washington\, DC\, 20005\, United States
ORGANIZER;CN="Chris Farmer":MAILTO:cfarmer@integralbenefits.com
END:VEVENT
BEGIN:VEVENT
DTSTART;TZID=America/New_York:20270304T110000
DTEND;TZID=America/New_York:20270304T130000
DTSTAMP:20260425T114427
CREATED:20230507T144518Z
LAST-MODIFIED:20230507T144657Z
UID:10000415-1804158000-1804165200@integralbenefits.com
SUMMARY:Downtown Day Services - Homeless Outreach
DESCRIPTION:Every Thursday you can find us assisting the Dc’s homeless population with obtaining health insurance and services desperately needed.
URL:https://integralbenefits.com/event/downtown-day-services-homeless-outreach/2027-03-04/
LOCATION:Downtown Day Services\, 1313 New York Ave NW\, Washington\, DC\, 20005\, United States
ORGANIZER;CN="Chris Farmer":MAILTO:cfarmer@integralbenefits.com
END:VEVENT
BEGIN:VEVENT
DTSTART;TZID=America/New_York:20270311T110000
DTEND;TZID=America/New_York:20270311T130000
DTSTAMP:20260425T114427
CREATED:20230507T144518Z
LAST-MODIFIED:20230507T144657Z
UID:10000416-1804762800-1804770000@integralbenefits.com
SUMMARY:Downtown Day Services - Homeless Outreach
DESCRIPTION:Every Thursday you can find us assisting the Dc’s homeless population with obtaining health insurance and services desperately needed.
URL:https://integralbenefits.com/event/downtown-day-services-homeless-outreach/2027-03-11/
LOCATION:Downtown Day Services\, 1313 New York Ave NW\, Washington\, DC\, 20005\, United States
ORGANIZER;CN="Chris Farmer":MAILTO:cfarmer@integralbenefits.com
END:VEVENT
BEGIN:VEVENT
DTSTART;TZID=America/New_York:20270318T110000
DTEND;TZID=America/New_York:20270318T130000
DTSTAMP:20260425T114427
CREATED:20230507T144518Z
LAST-MODIFIED:20230507T144657Z
UID:10000417-1805367600-1805374800@integralbenefits.com
SUMMARY:Downtown Day Services - Homeless Outreach
DESCRIPTION:Every Thursday you can find us assisting the Dc’s homeless population with obtaining health insurance and services desperately needed.
URL:https://integralbenefits.com/event/downtown-day-services-homeless-outreach/2027-03-18/
LOCATION:Downtown Day Services\, 1313 New York Ave NW\, Washington\, DC\, 20005\, United States
ORGANIZER;CN="Chris Farmer":MAILTO:cfarmer@integralbenefits.com
END:VEVENT
BEGIN:VEVENT
DTSTART;TZID=America/New_York:20270325T110000
DTEND;TZID=America/New_York:20270325T130000
DTSTAMP:20260425T114427
CREATED:20230507T144518Z
LAST-MODIFIED:20230507T144657Z
UID:10000418-1805972400-1805979600@integralbenefits.com
SUMMARY:Downtown Day Services - Homeless Outreach
DESCRIPTION:Every Thursday you can find us assisting the Dc’s homeless population with obtaining health insurance and services desperately needed.
URL:https://integralbenefits.com/event/downtown-day-services-homeless-outreach/2027-03-25/
LOCATION:Downtown Day Services\, 1313 New York Ave NW\, Washington\, DC\, 20005\, United States
ORGANIZER;CN="Chris Farmer":MAILTO:cfarmer@integralbenefits.com
END:VEVENT
BEGIN:VEVENT
DTSTART;TZID=America/New_York:20270401T110000
DTEND;TZID=America/New_York:20270401T130000
DTSTAMP:20260425T114427
CREATED:20230507T144518Z
LAST-MODIFIED:20230507T144657Z
UID:10000419-1806577200-1806584400@integralbenefits.com
SUMMARY:Downtown Day Services - Homeless Outreach
DESCRIPTION:Every Thursday you can find us assisting the Dc’s homeless population with obtaining health insurance and services desperately needed.
URL:https://integralbenefits.com/event/downtown-day-services-homeless-outreach/2027-04-01/
LOCATION:Downtown Day Services\, 1313 New York Ave NW\, Washington\, DC\, 20005\, United States
ORGANIZER;CN="Chris Farmer":MAILTO:cfarmer@integralbenefits.com
END:VEVENT
BEGIN:VEVENT
DTSTART;TZID=America/New_York:20270408T110000
DTEND;TZID=America/New_York:20270408T130000
DTSTAMP:20260425T114427
CREATED:20230507T144518Z
LAST-MODIFIED:20230507T144657Z
UID:10000420-1807182000-1807189200@integralbenefits.com
SUMMARY:Downtown Day Services - Homeless Outreach
DESCRIPTION:Every Thursday you can find us assisting the Dc’s homeless population with obtaining health insurance and services desperately needed.
URL:https://integralbenefits.com/event/downtown-day-services-homeless-outreach/2027-04-08/
LOCATION:Downtown Day Services\, 1313 New York Ave NW\, Washington\, DC\, 20005\, United States
ORGANIZER;CN="Chris Farmer":MAILTO:cfarmer@integralbenefits.com
END:VEVENT
BEGIN:VEVENT
DTSTART;TZID=America/New_York:20270415T110000
DTEND;TZID=America/New_York:20270415T130000
DTSTAMP:20260425T114427
CREATED:20230507T144518Z
LAST-MODIFIED:20230507T144657Z
UID:10000421-1807786800-1807794000@integralbenefits.com
SUMMARY:Downtown Day Services - Homeless Outreach
DESCRIPTION:Every Thursday you can find us assisting the Dc’s homeless population with obtaining health insurance and services desperately needed.
URL:https://integralbenefits.com/event/downtown-day-services-homeless-outreach/2027-04-15/
LOCATION:Downtown Day Services\, 1313 New York Ave NW\, Washington\, DC\, 20005\, United States
ORGANIZER;CN="Chris Farmer":MAILTO:cfarmer@integralbenefits.com
END:VEVENT
BEGIN:VEVENT
DTSTART;TZID=America/New_York:20270422T110000
DTEND;TZID=America/New_York:20270422T130000
DTSTAMP:20260425T114427
CREATED:20230507T144518Z
LAST-MODIFIED:20230507T144657Z
UID:10000422-1808391600-1808398800@integralbenefits.com
SUMMARY:Downtown Day Services - Homeless Outreach
DESCRIPTION:Every Thursday you can find us assisting the Dc’s homeless population with obtaining health insurance and services desperately needed.
URL:https://integralbenefits.com/event/downtown-day-services-homeless-outreach/2027-04-22/
LOCATION:Downtown Day Services\, 1313 New York Ave NW\, Washington\, DC\, 20005\, United States
ORGANIZER;CN="Chris Farmer":MAILTO:cfarmer@integralbenefits.com
END:VEVENT
BEGIN:VEVENT
DTSTART;TZID=America/New_York:20270429T110000
DTEND;TZID=America/New_York:20270429T130000
DTSTAMP:20260425T114427
CREATED:20230507T144518Z
LAST-MODIFIED:20230507T144657Z
UID:10000423-1808996400-1809003600@integralbenefits.com
SUMMARY:Downtown Day Services - Homeless Outreach
DESCRIPTION:Every Thursday you can find us assisting the Dc’s homeless population with obtaining health insurance and services desperately needed.
URL:https://integralbenefits.com/event/downtown-day-services-homeless-outreach/2027-04-29/
LOCATION:Downtown Day Services\, 1313 New York Ave NW\, Washington\, DC\, 20005\, United States
ORGANIZER;CN="Chris Farmer":MAILTO:cfarmer@integralbenefits.com
END:VEVENT
BEGIN:VEVENT
DTSTART;TZID=America/New_York:20270506T110000
DTEND;TZID=America/New_York:20270506T130000
DTSTAMP:20260425T114427
CREATED:20230507T144518Z
LAST-MODIFIED:20230507T144657Z
UID:10000424-1809601200-1809608400@integralbenefits.com
SUMMARY:Downtown Day Services - Homeless Outreach
DESCRIPTION:Every Thursday you can find us assisting the Dc’s homeless population with obtaining health insurance and services desperately needed.
URL:https://integralbenefits.com/event/downtown-day-services-homeless-outreach/2027-05-06/
LOCATION:Downtown Day Services\, 1313 New York Ave NW\, Washington\, DC\, 20005\, United States
ORGANIZER;CN="Chris Farmer":MAILTO:cfarmer@integralbenefits.com
END:VEVENT
BEGIN:VEVENT
DTSTART;TZID=America/New_York:20270513T110000
DTEND;TZID=America/New_York:20270513T130000
DTSTAMP:20260425T114427
CREATED:20230507T144518Z
LAST-MODIFIED:20230507T144657Z
UID:10000425-1810206000-1810213200@integralbenefits.com
SUMMARY:Downtown Day Services - Homeless Outreach
DESCRIPTION:Every Thursday you can find us assisting the Dc’s homeless population with obtaining health insurance and services desperately needed.
URL:https://integralbenefits.com/event/downtown-day-services-homeless-outreach/2027-05-13/
LOCATION:Downtown Day Services\, 1313 New York Ave NW\, Washington\, DC\, 20005\, United States
ORGANIZER;CN="Chris Farmer":MAILTO:cfarmer@integralbenefits.com
END:VEVENT
BEGIN:VEVENT
DTSTART;TZID=America/New_York:20270520T110000
DTEND;TZID=America/New_York:20270520T130000
DTSTAMP:20260425T114427
CREATED:20230507T144518Z
LAST-MODIFIED:20230507T144657Z
UID:10000426-1810810800-1810818000@integralbenefits.com
SUMMARY:Downtown Day Services - Homeless Outreach
DESCRIPTION:Every Thursday you can find us assisting the Dc’s homeless population with obtaining health insurance and services desperately needed.
URL:https://integralbenefits.com/event/downtown-day-services-homeless-outreach/2027-05-20/
LOCATION:Downtown Day Services\, 1313 New York Ave NW\, Washington\, DC\, 20005\, United States
ORGANIZER;CN="Chris Farmer":MAILTO:cfarmer@integralbenefits.com
END:VEVENT
BEGIN:VEVENT
DTSTART;TZID=America/New_York:20270527T110000
DTEND;TZID=America/New_York:20270527T130000
DTSTAMP:20260425T114427
CREATED:20230507T144518Z
LAST-MODIFIED:20230507T144657Z
UID:10000427-1811415600-1811422800@integralbenefits.com
SUMMARY:Downtown Day Services - Homeless Outreach
DESCRIPTION:Every Thursday you can find us assisting the Dc’s homeless population with obtaining health insurance and services desperately needed.
URL:https://integralbenefits.com/event/downtown-day-services-homeless-outreach/2027-05-27/
LOCATION:Downtown Day Services\, 1313 New York Ave NW\, Washington\, DC\, 20005\, United States
ORGANIZER;CN="Chris Farmer":MAILTO:cfarmer@integralbenefits.com
END:VEVENT
BEGIN:VEVENT
DTSTART;TZID=America/New_York:20270603T110000
DTEND;TZID=America/New_York:20270603T130000
DTSTAMP:20260425T114427
CREATED:20230507T144518Z
LAST-MODIFIED:20230507T144657Z
UID:10000428-1812020400-1812027600@integralbenefits.com
SUMMARY:Downtown Day Services - Homeless Outreach
DESCRIPTION:Every Thursday you can find us assisting the Dc’s homeless population with obtaining health insurance and services desperately needed.
URL:https://integralbenefits.com/event/downtown-day-services-homeless-outreach/2027-06-03/
LOCATION:Downtown Day Services\, 1313 New York Ave NW\, Washington\, DC\, 20005\, United States
ORGANIZER;CN="Chris Farmer":MAILTO:cfarmer@integralbenefits.com
END:VEVENT
BEGIN:VEVENT
DTSTART;TZID=America/New_York:20270610T110000
DTEND;TZID=America/New_York:20270610T130000
DTSTAMP:20260425T114427
CREATED:20230507T144518Z
LAST-MODIFIED:20230507T144657Z
UID:10000429-1812625200-1812632400@integralbenefits.com
SUMMARY:Downtown Day Services - Homeless Outreach
DESCRIPTION:Every Thursday you can find us assisting the Dc’s homeless population with obtaining health insurance and services desperately needed.
URL:https://integralbenefits.com/event/downtown-day-services-homeless-outreach/2027-06-10/
LOCATION:Downtown Day Services\, 1313 New York Ave NW\, Washington\, DC\, 20005\, United States
ORGANIZER;CN="Chris Farmer":MAILTO:cfarmer@integralbenefits.com
END:VEVENT
BEGIN:VEVENT
DTSTART;TZID=America/New_York:20270617T110000
DTEND;TZID=America/New_York:20270617T130000
DTSTAMP:20260425T114427
CREATED:20230507T144518Z
LAST-MODIFIED:20230507T144657Z
UID:10000430-1813230000-1813237200@integralbenefits.com
SUMMARY:Downtown Day Services - Homeless Outreach
DESCRIPTION:Every Thursday you can find us assisting the Dc’s homeless population with obtaining health insurance and services desperately needed.
URL:https://integralbenefits.com/event/downtown-day-services-homeless-outreach/2027-06-17/
LOCATION:Downtown Day Services\, 1313 New York Ave NW\, Washington\, DC\, 20005\, United States
ORGANIZER;CN="Chris Farmer":MAILTO:cfarmer@integralbenefits.com
END:VEVENT
BEGIN:VEVENT
DTSTART;TZID=America/New_York:20270624T110000
DTEND;TZID=America/New_York:20270624T130000
DTSTAMP:20260425T114427
CREATED:20230507T144518Z
LAST-MODIFIED:20230507T144657Z
UID:10000431-1813834800-1813842000@integralbenefits.com
SUMMARY:Downtown Day Services - Homeless Outreach
DESCRIPTION:Every Thursday you can find us assisting the Dc’s homeless population with obtaining health insurance and services desperately needed.
URL:https://integralbenefits.com/event/downtown-day-services-homeless-outreach/2027-06-24/
LOCATION:Downtown Day Services\, 1313 New York Ave NW\, Washington\, DC\, 20005\, United States
ORGANIZER;CN="Chris Farmer":MAILTO:cfarmer@integralbenefits.com
END:VEVENT
BEGIN:VEVENT
DTSTART;TZID=America/New_York:20270701T110000
DTEND;TZID=America/New_York:20270701T130000
DTSTAMP:20260425T114427
CREATED:20230507T144518Z
LAST-MODIFIED:20230507T144657Z
UID:10000432-1814439600-1814446800@integralbenefits.com
SUMMARY:Downtown Day Services - Homeless Outreach
DESCRIPTION:Every Thursday you can find us assisting the Dc’s homeless population with obtaining health insurance and services desperately needed.
URL:https://integralbenefits.com/event/downtown-day-services-homeless-outreach/2027-07-01/
LOCATION:Downtown Day Services\, 1313 New York Ave NW\, Washington\, DC\, 20005\, United States
ORGANIZER;CN="Chris Farmer":MAILTO:cfarmer@integralbenefits.com
END:VEVENT
BEGIN:VEVENT
DTSTART;TZID=America/New_York:20270708T110000
DTEND;TZID=America/New_York:20270708T130000
DTSTAMP:20260425T114427
CREATED:20230507T144518Z
LAST-MODIFIED:20230507T144657Z
UID:10000433-1815044400-1815051600@integralbenefits.com
SUMMARY:Downtown Day Services - Homeless Outreach
DESCRIPTION:Every Thursday you can find us assisting the Dc’s homeless population with obtaining health insurance and services desperately needed.
URL:https://integralbenefits.com/event/downtown-day-services-homeless-outreach/2027-07-08/
LOCATION:Downtown Day Services\, 1313 New York Ave NW\, Washington\, DC\, 20005\, United States
ORGANIZER;CN="Chris Farmer":MAILTO:cfarmer@integralbenefits.com
END:VEVENT
BEGIN:VEVENT
DTSTART;TZID=America/New_York:20270715T110000
DTEND;TZID=America/New_York:20270715T130000
DTSTAMP:20260425T114427
CREATED:20230507T144518Z
LAST-MODIFIED:20230507T144657Z
UID:10000434-1815649200-1815656400@integralbenefits.com
SUMMARY:Downtown Day Services - Homeless Outreach
DESCRIPTION:Every Thursday you can find us assisting the Dc’s homeless population with obtaining health insurance and services desperately needed.
URL:https://integralbenefits.com/event/downtown-day-services-homeless-outreach/2027-07-15/
LOCATION:Downtown Day Services\, 1313 New York Ave NW\, Washington\, DC\, 20005\, United States
ORGANIZER;CN="Chris Farmer":MAILTO:cfarmer@integralbenefits.com
END:VEVENT
BEGIN:VEVENT
DTSTART;TZID=America/New_York:20270722T110000
DTEND;TZID=America/New_York:20270722T130000
DTSTAMP:20260425T114427
CREATED:20230507T144518Z
LAST-MODIFIED:20230507T144657Z
UID:10000435-1816254000-1816261200@integralbenefits.com
SUMMARY:Downtown Day Services - Homeless Outreach
DESCRIPTION:Every Thursday you can find us assisting the Dc’s homeless population with obtaining health insurance and services desperately needed.
URL:https://integralbenefits.com/event/downtown-day-services-homeless-outreach/2027-07-22/
LOCATION:Downtown Day Services\, 1313 New York Ave NW\, Washington\, DC\, 20005\, United States
ORGANIZER;CN="Chris Farmer":MAILTO:cfarmer@integralbenefits.com
END:VEVENT
BEGIN:VEVENT
DTSTART;TZID=America/New_York:20270729T110000
DTEND;TZID=America/New_York:20270729T130000
DTSTAMP:20260425T114427
CREATED:20230507T144518Z
LAST-MODIFIED:20230507T144657Z
UID:10000436-1816858800-1816866000@integralbenefits.com
SUMMARY:Downtown Day Services - Homeless Outreach
DESCRIPTION:Every Thursday you can find us assisting the Dc’s homeless population with obtaining health insurance and services desperately needed.
URL:https://integralbenefits.com/event/downtown-day-services-homeless-outreach/2027-07-29/
LOCATION:Downtown Day Services\, 1313 New York Ave NW\, Washington\, DC\, 20005\, United States
ORGANIZER;CN="Chris Farmer":MAILTO:cfarmer@integralbenefits.com
END:VEVENT
END:VCALENDAR