BEGIN:VCALENDAR
VERSION:2.0
PRODID:-//Integral Benefits Group - ECPv6.15.20//NONSGML v1.0//EN
CALSCALE:GREGORIAN
METHOD:PUBLISH
X-ORIGINAL-URL:https://integralbenefits.com
X-WR-CALDESC:Events for Integral Benefits Group
REFRESH-INTERVAL;VALUE=DURATION:PT1H
X-Robots-Tag:noindex
X-PUBLISHED-TTL:PT1H
BEGIN:VTIMEZONE
TZID:America/New_York
BEGIN:DAYLIGHT
TZOFFSETFROM:-0500
TZOFFSETTO:-0400
TZNAME:EDT
DTSTART:20240310T070000
END:DAYLIGHT
BEGIN:STANDARD
TZOFFSETFROM:-0400
TZOFFSETTO:-0500
TZNAME:EST
DTSTART:20241103T060000
END:STANDARD
BEGIN:DAYLIGHT
TZOFFSETFROM:-0500
TZOFFSETTO:-0400
TZNAME:EDT
DTSTART:20250309T070000
END:DAYLIGHT
BEGIN:STANDARD
TZOFFSETFROM:-0400
TZOFFSETTO:-0500
TZNAME:EST
DTSTART:20251102T060000
END:STANDARD
BEGIN:DAYLIGHT
TZOFFSETFROM:-0500
TZOFFSETTO:-0400
TZNAME:EDT
DTSTART:20260308T070000
END:DAYLIGHT
BEGIN:STANDARD
TZOFFSETFROM:-0400
TZOFFSETTO:-0500
TZNAME:EST
DTSTART:20261101T060000
END:STANDARD
END:VTIMEZONE
BEGIN:VEVENT
DTSTART;TZID=America/New_York:20250909T100000
DTEND;TZID=America/New_York:20250909T140000
DTSTAMP:20260425T082558
CREATED:20240804T213035Z
LAST-MODIFIED:20241010T015109Z
UID:10000900-1757412000-1757426400@integralbenefits.com
SUMMARY:Medicare Resource Center - Chris Farmer
DESCRIPTION:Join us for a scheduled 1 on 1 meeting to discuss your Medicare options for 2025. \nWe seek to educate and empower our local communities to make the best decision as it pertains to their healthcare. \nTo RSVP for a time slot please email admin@integralbenefits.com or call (443) 915-1804
URL:https://integralbenefits.com/event/medicare-resource-center-2/2025-09-09/
LOCATION:Margaret Schweinhaut Senior Center\, 1000 Forest Glen Rd\, Silver Spring\, MD\, 20901\, United States
CATEGORIES:Local Medicare Assistance
ORGANIZER;CN="Chris Farmer":MAILTO:cfarmer@integralbenefits.com
END:VEVENT
BEGIN:VEVENT
DTSTART;TZID=America/New_York:20250902T100000
DTEND;TZID=America/New_York:20250902T140000
DTSTAMP:20260425T082558
CREATED:20240804T213035Z
LAST-MODIFIED:20241010T015109Z
UID:10000899-1756807200-1756821600@integralbenefits.com
SUMMARY:Medicare Resource Center - Chris Farmer
DESCRIPTION:Join us for a scheduled 1 on 1 meeting to discuss your Medicare options for 2025. \nWe seek to educate and empower our local communities to make the best decision as it pertains to their healthcare. \nTo RSVP for a time slot please email admin@integralbenefits.com or call (443) 915-1804
URL:https://integralbenefits.com/event/medicare-resource-center-2/2025-09-02/
LOCATION:Margaret Schweinhaut Senior Center\, 1000 Forest Glen Rd\, Silver Spring\, MD\, 20901\, United States
CATEGORIES:Local Medicare Assistance
ORGANIZER;CN="Chris Farmer":MAILTO:cfarmer@integralbenefits.com
END:VEVENT
BEGIN:VEVENT
DTSTART;TZID=America/New_York:20250826T100000
DTEND;TZID=America/New_York:20250826T140000
DTSTAMP:20260425T082558
CREATED:20240804T213035Z
LAST-MODIFIED:20241010T015109Z
UID:10000898-1756202400-1756216800@integralbenefits.com
SUMMARY:Medicare Resource Center - Chris Farmer
DESCRIPTION:Join us for a scheduled 1 on 1 meeting to discuss your Medicare options for 2025. \nWe seek to educate and empower our local communities to make the best decision as it pertains to their healthcare. \nTo RSVP for a time slot please email admin@integralbenefits.com or call (443) 915-1804
URL:https://integralbenefits.com/event/medicare-resource-center-2/2025-08-26/
LOCATION:Margaret Schweinhaut Senior Center\, 1000 Forest Glen Rd\, Silver Spring\, MD\, 20901\, United States
CATEGORIES:Local Medicare Assistance
ORGANIZER;CN="Chris Farmer":MAILTO:cfarmer@integralbenefits.com
END:VEVENT
BEGIN:VEVENT
DTSTART;TZID=America/New_York:20250819T100000
DTEND;TZID=America/New_York:20250819T140000
DTSTAMP:20260425T082558
CREATED:20240804T213035Z
LAST-MODIFIED:20241010T015109Z
UID:10000897-1755597600-1755612000@integralbenefits.com
SUMMARY:Medicare Resource Center - Chris Farmer
DESCRIPTION:Join us for a scheduled 1 on 1 meeting to discuss your Medicare options for 2025. \nWe seek to educate and empower our local communities to make the best decision as it pertains to their healthcare. \nTo RSVP for a time slot please email admin@integralbenefits.com or call (443) 915-1804
URL:https://integralbenefits.com/event/medicare-resource-center-2/2025-08-19/
LOCATION:Margaret Schweinhaut Senior Center\, 1000 Forest Glen Rd\, Silver Spring\, MD\, 20901\, United States
CATEGORIES:Local Medicare Assistance
ORGANIZER;CN="Chris Farmer":MAILTO:cfarmer@integralbenefits.com
END:VEVENT
BEGIN:VEVENT
DTSTART;TZID=America/New_York:20250812T100000
DTEND;TZID=America/New_York:20250812T140000
DTSTAMP:20260425T082558
CREATED:20240804T213035Z
LAST-MODIFIED:20241010T015109Z
UID:10000896-1754992800-1755007200@integralbenefits.com
SUMMARY:Medicare Resource Center - Chris Farmer
DESCRIPTION:Join us for a scheduled 1 on 1 meeting to discuss your Medicare options for 2025. \nWe seek to educate and empower our local communities to make the best decision as it pertains to their healthcare. \nTo RSVP for a time slot please email admin@integralbenefits.com or call (443) 915-1804
URL:https://integralbenefits.com/event/medicare-resource-center-2/2025-08-12/
LOCATION:Margaret Schweinhaut Senior Center\, 1000 Forest Glen Rd\, Silver Spring\, MD\, 20901\, United States
CATEGORIES:Local Medicare Assistance
ORGANIZER;CN="Chris Farmer":MAILTO:cfarmer@integralbenefits.com
END:VEVENT
BEGIN:VEVENT
DTSTART;TZID=America/New_York:20250805T100000
DTEND;TZID=America/New_York:20250805T140000
DTSTAMP:20260425T082558
CREATED:20240804T213035Z
LAST-MODIFIED:20241010T015109Z
UID:10000895-1754388000-1754402400@integralbenefits.com
SUMMARY:Medicare Resource Center - Chris Farmer
DESCRIPTION:Join us for a scheduled 1 on 1 meeting to discuss your Medicare options for 2025. \nWe seek to educate and empower our local communities to make the best decision as it pertains to their healthcare. \nTo RSVP for a time slot please email admin@integralbenefits.com or call (443) 915-1804
URL:https://integralbenefits.com/event/medicare-resource-center-2/2025-08-05/
LOCATION:Margaret Schweinhaut Senior Center\, 1000 Forest Glen Rd\, Silver Spring\, MD\, 20901\, United States
CATEGORIES:Local Medicare Assistance
ORGANIZER;CN="Chris Farmer":MAILTO:cfarmer@integralbenefits.com
END:VEVENT
BEGIN:VEVENT
DTSTART;TZID=America/New_York:20250729T100000
DTEND;TZID=America/New_York:20250729T140000
DTSTAMP:20260425T082558
CREATED:20240804T213035Z
LAST-MODIFIED:20241010T015109Z
UID:10000894-1753783200-1753797600@integralbenefits.com
SUMMARY:Medicare Resource Center - Chris Farmer
DESCRIPTION:Join us for a scheduled 1 on 1 meeting to discuss your Medicare options for 2025. \nWe seek to educate and empower our local communities to make the best decision as it pertains to their healthcare. \nTo RSVP for a time slot please email admin@integralbenefits.com or call (443) 915-1804
URL:https://integralbenefits.com/event/medicare-resource-center-2/2025-07-29/
LOCATION:Margaret Schweinhaut Senior Center\, 1000 Forest Glen Rd\, Silver Spring\, MD\, 20901\, United States
CATEGORIES:Local Medicare Assistance
ORGANIZER;CN="Chris Farmer":MAILTO:cfarmer@integralbenefits.com
END:VEVENT
BEGIN:VEVENT
DTSTART;TZID=America/New_York:20250722T100000
DTEND;TZID=America/New_York:20250722T140000
DTSTAMP:20260425T082558
CREATED:20240804T213035Z
LAST-MODIFIED:20241010T015109Z
UID:10000893-1753178400-1753192800@integralbenefits.com
SUMMARY:Medicare Resource Center - Chris Farmer
DESCRIPTION:Join us for a scheduled 1 on 1 meeting to discuss your Medicare options for 2025. \nWe seek to educate and empower our local communities to make the best decision as it pertains to their healthcare. \nTo RSVP for a time slot please email admin@integralbenefits.com or call (443) 915-1804
URL:https://integralbenefits.com/event/medicare-resource-center-2/2025-07-22/
LOCATION:Margaret Schweinhaut Senior Center\, 1000 Forest Glen Rd\, Silver Spring\, MD\, 20901\, United States
CATEGORIES:Local Medicare Assistance
ORGANIZER;CN="Chris Farmer":MAILTO:cfarmer@integralbenefits.com
END:VEVENT
BEGIN:VEVENT
DTSTART;TZID=America/New_York:20250715T100000
DTEND;TZID=America/New_York:20250715T140000
DTSTAMP:20260425T082558
CREATED:20240804T213035Z
LAST-MODIFIED:20241010T015109Z
UID:10000892-1752573600-1752588000@integralbenefits.com
SUMMARY:Medicare Resource Center - Chris Farmer
DESCRIPTION:Join us for a scheduled 1 on 1 meeting to discuss your Medicare options for 2025. \nWe seek to educate and empower our local communities to make the best decision as it pertains to their healthcare. \nTo RSVP for a time slot please email admin@integralbenefits.com or call (443) 915-1804
URL:https://integralbenefits.com/event/medicare-resource-center-2/2025-07-15/
LOCATION:Margaret Schweinhaut Senior Center\, 1000 Forest Glen Rd\, Silver Spring\, MD\, 20901\, United States
CATEGORIES:Local Medicare Assistance
ORGANIZER;CN="Chris Farmer":MAILTO:cfarmer@integralbenefits.com
END:VEVENT
BEGIN:VEVENT
DTSTART;TZID=America/New_York:20250708T100000
DTEND;TZID=America/New_York:20250708T140000
DTSTAMP:20260425T082558
CREATED:20240804T213035Z
LAST-MODIFIED:20241010T015109Z
UID:10000891-1751968800-1751983200@integralbenefits.com
SUMMARY:Medicare Resource Center - Chris Farmer
DESCRIPTION:Join us for a scheduled 1 on 1 meeting to discuss your Medicare options for 2025. \nWe seek to educate and empower our local communities to make the best decision as it pertains to their healthcare. \nTo RSVP for a time slot please email admin@integralbenefits.com or call (443) 915-1804
URL:https://integralbenefits.com/event/medicare-resource-center-2/2025-07-08/
LOCATION:Margaret Schweinhaut Senior Center\, 1000 Forest Glen Rd\, Silver Spring\, MD\, 20901\, United States
CATEGORIES:Local Medicare Assistance
ORGANIZER;CN="Chris Farmer":MAILTO:cfarmer@integralbenefits.com
END:VEVENT
BEGIN:VEVENT
DTSTART;TZID=America/New_York:20250701T100000
DTEND;TZID=America/New_York:20250701T140000
DTSTAMP:20260425T082558
CREATED:20240804T213035Z
LAST-MODIFIED:20241010T015109Z
UID:10000890-1751364000-1751378400@integralbenefits.com
SUMMARY:Medicare Resource Center - Chris Farmer
DESCRIPTION:Join us for a scheduled 1 on 1 meeting to discuss your Medicare options for 2025. \nWe seek to educate and empower our local communities to make the best decision as it pertains to their healthcare. \nTo RSVP for a time slot please email admin@integralbenefits.com or call (443) 915-1804
URL:https://integralbenefits.com/event/medicare-resource-center-2/2025-07-01/
LOCATION:Margaret Schweinhaut Senior Center\, 1000 Forest Glen Rd\, Silver Spring\, MD\, 20901\, United States
CATEGORIES:Local Medicare Assistance
ORGANIZER;CN="Chris Farmer":MAILTO:cfarmer@integralbenefits.com
END:VEVENT
BEGIN:VEVENT
DTSTART;TZID=America/New_York:20250624T100000
DTEND;TZID=America/New_York:20250624T140000
DTSTAMP:20260425T082558
CREATED:20240804T213035Z
LAST-MODIFIED:20241010T015109Z
UID:10000889-1750759200-1750773600@integralbenefits.com
SUMMARY:Medicare Resource Center - Chris Farmer
DESCRIPTION:Join us for a scheduled 1 on 1 meeting to discuss your Medicare options for 2025. \nWe seek to educate and empower our local communities to make the best decision as it pertains to their healthcare. \nTo RSVP for a time slot please email admin@integralbenefits.com or call (443) 915-1804
URL:https://integralbenefits.com/event/medicare-resource-center-2/2025-06-24/
LOCATION:Margaret Schweinhaut Senior Center\, 1000 Forest Glen Rd\, Silver Spring\, MD\, 20901\, United States
CATEGORIES:Local Medicare Assistance
ORGANIZER;CN="Chris Farmer":MAILTO:cfarmer@integralbenefits.com
END:VEVENT
BEGIN:VEVENT
DTSTART;TZID=America/New_York:20250617T100000
DTEND;TZID=America/New_York:20250617T140000
DTSTAMP:20260425T082558
CREATED:20240804T213035Z
LAST-MODIFIED:20241010T015109Z
UID:10000888-1750154400-1750168800@integralbenefits.com
SUMMARY:Medicare Resource Center - Chris Farmer
DESCRIPTION:Join us for a scheduled 1 on 1 meeting to discuss your Medicare options for 2025. \nWe seek to educate and empower our local communities to make the best decision as it pertains to their healthcare. \nTo RSVP for a time slot please email admin@integralbenefits.com or call (443) 915-1804
URL:https://integralbenefits.com/event/medicare-resource-center-2/2025-06-17/
LOCATION:Margaret Schweinhaut Senior Center\, 1000 Forest Glen Rd\, Silver Spring\, MD\, 20901\, United States
CATEGORIES:Local Medicare Assistance
ORGANIZER;CN="Chris Farmer":MAILTO:cfarmer@integralbenefits.com
END:VEVENT
BEGIN:VEVENT
DTSTART;TZID=America/New_York:20250610T100000
DTEND;TZID=America/New_York:20250610T140000
DTSTAMP:20260425T082558
CREATED:20240804T213035Z
LAST-MODIFIED:20241010T015109Z
UID:10000887-1749549600-1749564000@integralbenefits.com
SUMMARY:Medicare Resource Center - Chris Farmer
DESCRIPTION:Join us for a scheduled 1 on 1 meeting to discuss your Medicare options for 2025. \nWe seek to educate and empower our local communities to make the best decision as it pertains to their healthcare. \nTo RSVP for a time slot please email admin@integralbenefits.com or call (443) 915-1804
URL:https://integralbenefits.com/event/medicare-resource-center-2/2025-06-10/
LOCATION:Margaret Schweinhaut Senior Center\, 1000 Forest Glen Rd\, Silver Spring\, MD\, 20901\, United States
CATEGORIES:Local Medicare Assistance
ORGANIZER;CN="Chris Farmer":MAILTO:cfarmer@integralbenefits.com
END:VEVENT
BEGIN:VEVENT
DTSTART;TZID=America/New_York:20250603T100000
DTEND;TZID=America/New_York:20250603T140000
DTSTAMP:20260425T082558
CREATED:20240804T213035Z
LAST-MODIFIED:20241010T015109Z
UID:10000886-1748944800-1748959200@integralbenefits.com
SUMMARY:Medicare Resource Center - Chris Farmer
DESCRIPTION:Join us for a scheduled 1 on 1 meeting to discuss your Medicare options for 2025. \nWe seek to educate and empower our local communities to make the best decision as it pertains to their healthcare. \nTo RSVP for a time slot please email admin@integralbenefits.com or call (443) 915-1804
URL:https://integralbenefits.com/event/medicare-resource-center-2/2025-06-03/
LOCATION:Margaret Schweinhaut Senior Center\, 1000 Forest Glen Rd\, Silver Spring\, MD\, 20901\, United States
CATEGORIES:Local Medicare Assistance
ORGANIZER;CN="Chris Farmer":MAILTO:cfarmer@integralbenefits.com
END:VEVENT
BEGIN:VEVENT
DTSTART;TZID=America/New_York:20250527T100000
DTEND;TZID=America/New_York:20250527T140000
DTSTAMP:20260425T082558
CREATED:20240804T213035Z
LAST-MODIFIED:20241010T015109Z
UID:10000885-1748340000-1748354400@integralbenefits.com
SUMMARY:Medicare Resource Center - Chris Farmer
DESCRIPTION:Join us for a scheduled 1 on 1 meeting to discuss your Medicare options for 2025. \nWe seek to educate and empower our local communities to make the best decision as it pertains to their healthcare. \nTo RSVP for a time slot please email admin@integralbenefits.com or call (443) 915-1804
URL:https://integralbenefits.com/event/medicare-resource-center-2/2025-05-27/
LOCATION:Margaret Schweinhaut Senior Center\, 1000 Forest Glen Rd\, Silver Spring\, MD\, 20901\, United States
CATEGORIES:Local Medicare Assistance
ORGANIZER;CN="Chris Farmer":MAILTO:cfarmer@integralbenefits.com
END:VEVENT
BEGIN:VEVENT
DTSTART;TZID=America/New_York:20250520T100000
DTEND;TZID=America/New_York:20250520T140000
DTSTAMP:20260425T082558
CREATED:20240804T213035Z
LAST-MODIFIED:20241010T015109Z
UID:10000884-1747735200-1747749600@integralbenefits.com
SUMMARY:Medicare Resource Center - Chris Farmer
DESCRIPTION:Join us for a scheduled 1 on 1 meeting to discuss your Medicare options for 2025. \nWe seek to educate and empower our local communities to make the best decision as it pertains to their healthcare. \nTo RSVP for a time slot please email admin@integralbenefits.com or call (443) 915-1804
URL:https://integralbenefits.com/event/medicare-resource-center-2/2025-05-20/
LOCATION:Margaret Schweinhaut Senior Center\, 1000 Forest Glen Rd\, Silver Spring\, MD\, 20901\, United States
CATEGORIES:Local Medicare Assistance
ORGANIZER;CN="Chris Farmer":MAILTO:cfarmer@integralbenefits.com
END:VEVENT
BEGIN:VEVENT
DTSTART;TZID=America/New_York:20250513T100000
DTEND;TZID=America/New_York:20250513T140000
DTSTAMP:20260425T082558
CREATED:20240804T213035Z
LAST-MODIFIED:20241010T015109Z
UID:10000883-1747130400-1747144800@integralbenefits.com
SUMMARY:Medicare Resource Center - Chris Farmer
DESCRIPTION:Join us for a scheduled 1 on 1 meeting to discuss your Medicare options for 2025. \nWe seek to educate and empower our local communities to make the best decision as it pertains to their healthcare. \nTo RSVP for a time slot please email admin@integralbenefits.com or call (443) 915-1804
URL:https://integralbenefits.com/event/medicare-resource-center-2/2025-05-13/
LOCATION:Margaret Schweinhaut Senior Center\, 1000 Forest Glen Rd\, Silver Spring\, MD\, 20901\, United States
CATEGORIES:Local Medicare Assistance
ORGANIZER;CN="Chris Farmer":MAILTO:cfarmer@integralbenefits.com
END:VEVENT
BEGIN:VEVENT
DTSTART;TZID=America/New_York:20250506T100000
DTEND;TZID=America/New_York:20250506T140000
DTSTAMP:20260425T082558
CREATED:20240804T213035Z
LAST-MODIFIED:20241010T015109Z
UID:10000882-1746525600-1746540000@integralbenefits.com
SUMMARY:Medicare Resource Center - Chris Farmer
DESCRIPTION:Join us for a scheduled 1 on 1 meeting to discuss your Medicare options for 2025. \nWe seek to educate and empower our local communities to make the best decision as it pertains to their healthcare. \nTo RSVP for a time slot please email admin@integralbenefits.com or call (443) 915-1804
URL:https://integralbenefits.com/event/medicare-resource-center-2/2025-05-06/
LOCATION:Margaret Schweinhaut Senior Center\, 1000 Forest Glen Rd\, Silver Spring\, MD\, 20901\, United States
CATEGORIES:Local Medicare Assistance
ORGANIZER;CN="Chris Farmer":MAILTO:cfarmer@integralbenefits.com
END:VEVENT
BEGIN:VEVENT
DTSTART;TZID=America/New_York:20250429T100000
DTEND;TZID=America/New_York:20250429T140000
DTSTAMP:20260425T082558
CREATED:20240804T213035Z
LAST-MODIFIED:20241010T015109Z
UID:10000881-1745920800-1745935200@integralbenefits.com
SUMMARY:Medicare Resource Center - Chris Farmer
DESCRIPTION:Join us for a scheduled 1 on 1 meeting to discuss your Medicare options for 2025. \nWe seek to educate and empower our local communities to make the best decision as it pertains to their healthcare. \nTo RSVP for a time slot please email admin@integralbenefits.com or call (443) 915-1804
URL:https://integralbenefits.com/event/medicare-resource-center-2/2025-04-29/
LOCATION:Margaret Schweinhaut Senior Center\, 1000 Forest Glen Rd\, Silver Spring\, MD\, 20901\, United States
CATEGORIES:Local Medicare Assistance
ORGANIZER;CN="Chris Farmer":MAILTO:cfarmer@integralbenefits.com
END:VEVENT
BEGIN:VEVENT
DTSTART;TZID=America/New_York:20250422T100000
DTEND;TZID=America/New_York:20250422T140000
DTSTAMP:20260425T082558
CREATED:20240804T213035Z
LAST-MODIFIED:20241010T015109Z
UID:10000880-1745316000-1745330400@integralbenefits.com
SUMMARY:Medicare Resource Center - Chris Farmer
DESCRIPTION:Join us for a scheduled 1 on 1 meeting to discuss your Medicare options for 2025. \nWe seek to educate and empower our local communities to make the best decision as it pertains to their healthcare. \nTo RSVP for a time slot please email admin@integralbenefits.com or call (443) 915-1804
URL:https://integralbenefits.com/event/medicare-resource-center-2/2025-04-22/
LOCATION:Margaret Schweinhaut Senior Center\, 1000 Forest Glen Rd\, Silver Spring\, MD\, 20901\, United States
CATEGORIES:Local Medicare Assistance
ORGANIZER;CN="Chris Farmer":MAILTO:cfarmer@integralbenefits.com
END:VEVENT
BEGIN:VEVENT
DTSTART;TZID=America/New_York:20250415T100000
DTEND;TZID=America/New_York:20250415T140000
DTSTAMP:20260425T082558
CREATED:20240804T213035Z
LAST-MODIFIED:20241010T015109Z
UID:10000879-1744711200-1744725600@integralbenefits.com
SUMMARY:Medicare Resource Center - Chris Farmer
DESCRIPTION:Join us for a scheduled 1 on 1 meeting to discuss your Medicare options for 2025. \nWe seek to educate and empower our local communities to make the best decision as it pertains to their healthcare. \nTo RSVP for a time slot please email admin@integralbenefits.com or call (443) 915-1804
URL:https://integralbenefits.com/event/medicare-resource-center-2/2025-04-15/
LOCATION:Margaret Schweinhaut Senior Center\, 1000 Forest Glen Rd\, Silver Spring\, MD\, 20901\, United States
CATEGORIES:Local Medicare Assistance
ORGANIZER;CN="Chris Farmer":MAILTO:cfarmer@integralbenefits.com
END:VEVENT
BEGIN:VEVENT
DTSTART;TZID=America/New_York:20250408T100000
DTEND;TZID=America/New_York:20250408T140000
DTSTAMP:20260425T082558
CREATED:20240804T213035Z
LAST-MODIFIED:20241010T015109Z
UID:10000878-1744106400-1744120800@integralbenefits.com
SUMMARY:Medicare Resource Center - Chris Farmer
DESCRIPTION:Join us for a scheduled 1 on 1 meeting to discuss your Medicare options for 2025. \nWe seek to educate and empower our local communities to make the best decision as it pertains to their healthcare. \nTo RSVP for a time slot please email admin@integralbenefits.com or call (443) 915-1804
URL:https://integralbenefits.com/event/medicare-resource-center-2/2025-04-08/
LOCATION:Margaret Schweinhaut Senior Center\, 1000 Forest Glen Rd\, Silver Spring\, MD\, 20901\, United States
CATEGORIES:Local Medicare Assistance
ORGANIZER;CN="Chris Farmer":MAILTO:cfarmer@integralbenefits.com
END:VEVENT
BEGIN:VEVENT
DTSTART;TZID=America/New_York:20250401T100000
DTEND;TZID=America/New_York:20250401T140000
DTSTAMP:20260425T082558
CREATED:20240804T213035Z
LAST-MODIFIED:20241010T015109Z
UID:10000877-1743501600-1743516000@integralbenefits.com
SUMMARY:Medicare Resource Center - Chris Farmer
DESCRIPTION:Join us for a scheduled 1 on 1 meeting to discuss your Medicare options for 2025. \nWe seek to educate and empower our local communities to make the best decision as it pertains to their healthcare. \nTo RSVP for a time slot please email admin@integralbenefits.com or call (443) 915-1804
URL:https://integralbenefits.com/event/medicare-resource-center-2/2025-04-01/
LOCATION:Margaret Schweinhaut Senior Center\, 1000 Forest Glen Rd\, Silver Spring\, MD\, 20901\, United States
CATEGORIES:Local Medicare Assistance
ORGANIZER;CN="Chris Farmer":MAILTO:cfarmer@integralbenefits.com
END:VEVENT
BEGIN:VEVENT
DTSTART;TZID=America/New_York:20250325T100000
DTEND;TZID=America/New_York:20250325T140000
DTSTAMP:20260425T082558
CREATED:20240804T213035Z
LAST-MODIFIED:20241010T015109Z
UID:10000876-1742896800-1742911200@integralbenefits.com
SUMMARY:Medicare Resource Center - Chris Farmer
DESCRIPTION:Join us for a scheduled 1 on 1 meeting to discuss your Medicare options for 2025. \nWe seek to educate and empower our local communities to make the best decision as it pertains to their healthcare. \nTo RSVP for a time slot please email admin@integralbenefits.com or call (443) 915-1804
URL:https://integralbenefits.com/event/medicare-resource-center-2/2025-03-25/
LOCATION:Margaret Schweinhaut Senior Center\, 1000 Forest Glen Rd\, Silver Spring\, MD\, 20901\, United States
CATEGORIES:Local Medicare Assistance
ORGANIZER;CN="Chris Farmer":MAILTO:cfarmer@integralbenefits.com
END:VEVENT
BEGIN:VEVENT
DTSTART;TZID=America/New_York:20250318T100000
DTEND;TZID=America/New_York:20250318T140000
DTSTAMP:20260425T082558
CREATED:20240804T213035Z
LAST-MODIFIED:20241010T015109Z
UID:10000875-1742292000-1742306400@integralbenefits.com
SUMMARY:Medicare Resource Center - Chris Farmer
DESCRIPTION:Join us for a scheduled 1 on 1 meeting to discuss your Medicare options for 2025. \nWe seek to educate and empower our local communities to make the best decision as it pertains to their healthcare. \nTo RSVP for a time slot please email admin@integralbenefits.com or call (443) 915-1804
URL:https://integralbenefits.com/event/medicare-resource-center-2/2025-03-18/
LOCATION:Margaret Schweinhaut Senior Center\, 1000 Forest Glen Rd\, Silver Spring\, MD\, 20901\, United States
CATEGORIES:Local Medicare Assistance
ORGANIZER;CN="Chris Farmer":MAILTO:cfarmer@integralbenefits.com
END:VEVENT
BEGIN:VEVENT
DTSTART;TZID=America/New_York:20250311T100000
DTEND;TZID=America/New_York:20250311T140000
DTSTAMP:20260425T082558
CREATED:20240804T213035Z
LAST-MODIFIED:20241010T015109Z
UID:10000874-1741687200-1741701600@integralbenefits.com
SUMMARY:Medicare Resource Center - Chris Farmer
DESCRIPTION:Join us for a scheduled 1 on 1 meeting to discuss your Medicare options for 2025. \nWe seek to educate and empower our local communities to make the best decision as it pertains to their healthcare. \nTo RSVP for a time slot please email admin@integralbenefits.com or call (443) 915-1804
URL:https://integralbenefits.com/event/medicare-resource-center-2/2025-03-11/
LOCATION:Margaret Schweinhaut Senior Center\, 1000 Forest Glen Rd\, Silver Spring\, MD\, 20901\, United States
CATEGORIES:Local Medicare Assistance
ORGANIZER;CN="Chris Farmer":MAILTO:cfarmer@integralbenefits.com
END:VEVENT
BEGIN:VEVENT
DTSTART;TZID=America/New_York:20250304T100000
DTEND;TZID=America/New_York:20250304T140000
DTSTAMP:20260425T082558
CREATED:20240804T213035Z
LAST-MODIFIED:20241010T015109Z
UID:10000873-1741082400-1741096800@integralbenefits.com
SUMMARY:Medicare Resource Center - Chris Farmer
DESCRIPTION:Join us for a scheduled 1 on 1 meeting to discuss your Medicare options for 2025. \nWe seek to educate and empower our local communities to make the best decision as it pertains to their healthcare. \nTo RSVP for a time slot please email admin@integralbenefits.com or call (443) 915-1804
URL:https://integralbenefits.com/event/medicare-resource-center-2/2025-03-04/
LOCATION:Margaret Schweinhaut Senior Center\, 1000 Forest Glen Rd\, Silver Spring\, MD\, 20901\, United States
CATEGORIES:Local Medicare Assistance
ORGANIZER;CN="Chris Farmer":MAILTO:cfarmer@integralbenefits.com
END:VEVENT
BEGIN:VEVENT
DTSTART;TZID=America/New_York:20250225T100000
DTEND;TZID=America/New_York:20250225T140000
DTSTAMP:20260425T082558
CREATED:20240804T213035Z
LAST-MODIFIED:20241010T015109Z
UID:10000872-1740477600-1740492000@integralbenefits.com
SUMMARY:Medicare Resource Center - Chris Farmer
DESCRIPTION:Join us for a scheduled 1 on 1 meeting to discuss your Medicare options for 2025. \nWe seek to educate and empower our local communities to make the best decision as it pertains to their healthcare. \nTo RSVP for a time slot please email admin@integralbenefits.com or call (443) 915-1804
URL:https://integralbenefits.com/event/medicare-resource-center-2/2025-02-25/
LOCATION:Margaret Schweinhaut Senior Center\, 1000 Forest Glen Rd\, Silver Spring\, MD\, 20901\, United States
CATEGORIES:Local Medicare Assistance
ORGANIZER;CN="Chris Farmer":MAILTO:cfarmer@integralbenefits.com
END:VEVENT
BEGIN:VEVENT
DTSTART;TZID=America/New_York:20250218T100000
DTEND;TZID=America/New_York:20250218T140000
DTSTAMP:20260425T082558
CREATED:20240804T213035Z
LAST-MODIFIED:20241010T015109Z
UID:10000871-1739872800-1739887200@integralbenefits.com
SUMMARY:Medicare Resource Center - Chris Farmer
DESCRIPTION:Join us for a scheduled 1 on 1 meeting to discuss your Medicare options for 2025. \nWe seek to educate and empower our local communities to make the best decision as it pertains to their healthcare. \nTo RSVP for a time slot please email admin@integralbenefits.com or call (443) 915-1804
URL:https://integralbenefits.com/event/medicare-resource-center-2/2025-02-18/
LOCATION:Margaret Schweinhaut Senior Center\, 1000 Forest Glen Rd\, Silver Spring\, MD\, 20901\, United States
CATEGORIES:Local Medicare Assistance
ORGANIZER;CN="Chris Farmer":MAILTO:cfarmer@integralbenefits.com
END:VEVENT
END:VCALENDAR