BEGIN:VCALENDAR
VERSION:2.0
PRODID:-//Integral Benefits Group - ECPv6.15.20//NONSGML v1.0//EN
CALSCALE:GREGORIAN
METHOD:PUBLISH
X-ORIGINAL-URL:https://integralbenefits.com
X-WR-CALDESC:Events for Integral Benefits Group
REFRESH-INTERVAL;VALUE=DURATION:PT1H
X-Robots-Tag:noindex
X-PUBLISHED-TTL:PT1H
BEGIN:VTIMEZONE
TZID:America/New_York
BEGIN:DAYLIGHT
TZOFFSETFROM:-0500
TZOFFSETTO:-0400
TZNAME:EDT
DTSTART:20220313T070000
END:DAYLIGHT
BEGIN:STANDARD
TZOFFSETFROM:-0400
TZOFFSETTO:-0500
TZNAME:EST
DTSTART:20221106T060000
END:STANDARD
BEGIN:DAYLIGHT
TZOFFSETFROM:-0500
TZOFFSETTO:-0400
TZNAME:EDT
DTSTART:20230312T070000
END:DAYLIGHT
BEGIN:STANDARD
TZOFFSETFROM:-0400
TZOFFSETTO:-0500
TZNAME:EST
DTSTART:20231105T060000
END:STANDARD
BEGIN:DAYLIGHT
TZOFFSETFROM:-0500
TZOFFSETTO:-0400
TZNAME:EDT
DTSTART:20240310T070000
END:DAYLIGHT
BEGIN:STANDARD
TZOFFSETFROM:-0400
TZOFFSETTO:-0500
TZNAME:EST
DTSTART:20241103T060000
END:STANDARD
END:VTIMEZONE
BEGIN:VEVENT
DTSTART;TZID=America/New_York:20230321T110000
DTEND;TZID=America/New_York:20230321T120000
DTSTAMP:20260425T145750
CREATED:20230129T174525Z
LAST-MODIFIED:20230129T174525Z
UID:10000202-1679396400-1679400000@integralbenefits.com
SUMMARY:ABC’s of Medicare - In Person Seminar
DESCRIPTION:Join us at Margaret Schweinhaut Senior Center in Silver Spring\, Md. We will be hosting an educational seminar to learn about the ABCD’s of Medicare.  \nThe purpose for this event is educational only. There is no obligation to enroll or purchase anything\, this is a free event. Light refreshments will be provided. \nFor individuals needing assistance please call (443) 915-8126 or TTY: 711
URL:https://integralbenefits.com/event/abcs-of-medicare-in-person-seminar/2023-03-21/
LOCATION:Margaret Schweinhaut Senior Center\, 1000 Forest Glen Rd\, Silver Spring\, MD\, 20901\, United States
ORGANIZER;CN="Chris Farmer":MAILTO:cfarmer@integralbenefits.com
END:VEVENT
BEGIN:VEVENT
DTSTART;TZID=America/New_York:20230209T110000
DTEND;TZID=America/New_York:20230209T120000
DTSTAMP:20260425T145750
CREATED:20230129T174525Z
LAST-MODIFIED:20230129T174525Z
UID:10000201-1675940400-1675944000@integralbenefits.com
SUMMARY:ABC’s of Medicare - In Person Seminar
DESCRIPTION:Join us at Margaret Schweinhaut Senior Center in Silver Spring\, Md. We will be hosting an educational seminar to learn about the ABCD’s of Medicare.  \nThe purpose for this event is educational only. There is no obligation to enroll or purchase anything\, this is a free event. Light refreshments will be provided. \nFor individuals needing assistance please call (443) 915-8126 or TTY: 711
URL:https://integralbenefits.com/event/abcs-of-medicare-in-person-seminar/2023-02-09/
LOCATION:Margaret Schweinhaut Senior Center\, 1000 Forest Glen Rd\, Silver Spring\, MD\, 20901\, United States
ORGANIZER;CN="Chris Farmer":MAILTO:cfarmer@integralbenefits.com
END:VEVENT
END:VCALENDAR